BEGIN:VCALENDAR
VERSION:2.0
PRODID: -//Q4 Inc.//EN
METHOD:PUBLISH
BEGIN:VTIMEZONE
TZID:America/New_York
X-LIC-LOCATION:America/New_York
BEGIN:DAYLIGHT
TZOFFSETFROM:-0500
TZOFFSETTO:-0400
TZNAME:EDT
DTSTART:19700308T020000
RRULE:FREQ=YEARLY;BYMONTH=3;BYDAY=2SU
END:DAYLIGHT
BEGIN:STANDARD
TZOFFSETFROM:-0400
TZOFFSETTO:-0500
TZNAME:EST
DTSTART:19701101T020000
RRULE:FREQ=YEARLY;BYMONTH=11;BYDAY=1SU
END:STANDARD
END:VTIMEZONE
BEGIN:VEVENT
ORGANIZER:MAILTO:investor_relations@trimble.com
DTSTART;TZID="America/New_York":20260518T145000
DTEND;TZID="America/New_York":20260518T155000
LOCATION:Boston, MA
UID:dfdbbb45-a8a4-4332-9bf1-6d6efcd80c10
DTSTAMP:20260419T084519
SUMMARY:Rob Painter (CEO) Fireside Chat at JP Morgan TMC Conference
DESCRIPTION: View More Information: https://investor.trimble.com/events-and-presentations/event-details/2026/Rob-Painter-CEO-Fireside-Chat-at-JP-Morgan-TMC-Conference-2026-5fLxdfFkI4/default.aspx
URL;VALUE=URI:https://investor.trimble.com/events-and-presentations/event-details/2026/Rob-Painter-CEO-Fireside-Chat-at-JP-Morgan-TMC-Conference-2026-5fLxdfFkI4/default.aspx
PRIORITY:5
CLASS:PUBLIC
END:VEVENT
END:VCALENDAR
